BEGIN:VCALENDAR
VERSION:2.0
PRODID:-//Art Nude Ireland - ECPv4.6.2//NONSGML v1.0//EN
CALSCALE:GREGORIAN
METHOD:PUBLISH
X-WR-CALNAME:Art Nude Ireland
X-ORIGINAL-URL:http://artnudeireland.ie
X-WR-CALDESC:Events for Art Nude Ireland
BEGIN:VEVENT
DTSTART;TZID=Europe/London:20170410T190000
DTEND;TZID=Europe/London:20170410T210000
DTSTAMP:20171105T082430
CREATED:20170412T233742Z
LAST-MODIFIED:20170412T233742Z
UID:2056-1491850800-1491858000@artnudeireland.ie
SUMMARY:April Meeting
DESCRIPTION:Organising shoots among members of the group\nPB will go through use of group calendar\nShoot Locations\nExhibition \n\nViews on new meeting location \nDoug Ross will give a presentation of some work that inspires him\nI’ll try to bring along 4 or 5 new images from more recent shoots. \nMost importantly\, I would encourage everyone who attends to bring something to show. It can be your own work or something that inspires. Even 2 or 3 images would be welcome. And a larger presentation would be great. It’s certainly not mandatory to present work\, but the presentations are always the highlight of each meeting. \nAOB \n\n
URL:http://artnudeireland.ie/event/april-meeting/
LOCATION:86 Thomas Street\, Dublin\, D08 DDF1\, Ireland
END:VEVENT
END:VCALENDAR