BEGIN:VCALENDAR
VERSION:2.0
PRODID:-//Art Nude Ireland - ECPv4.6.2//NONSGML v1.0//EN
CALSCALE:GREGORIAN
METHOD:PUBLISH
X-WR-CALNAME:Art Nude Ireland
X-ORIGINAL-URL:http://artnudeireland.ie
X-WR-CALDESC:Events for Art Nude Ireland
BEGIN:VEVENT
DTSTART;TZID=Europe/London:20170320T070000
DTEND;TZID=Europe/London:20170320T210000
DTSTAMP:20171105T082506
CREATED:20170329T221409Z
LAST-MODIFIED:20170329T221409Z
UID:1970-1489993200-1490043600@artnudeireland.ie
SUMMARY:March Meeting
DESCRIPTION:Agenda \nANI Group Exhibition – let’s set ourselves some clear goals this time \nUpdates on Group Shoot Locations – a couple of potential locations have come up since last month. \nFinding a new location for future meetings – for those who don’t know\, Nealons is closing down very soon 🙁 \nConall McMahon will present some solo work as well as some images from a recent collaboration with Vonna and Michael Hayes. \nI’ll also show a few of my images this time – a mix of older favourites of mine and maybe some newer work that hasn’t been seen yet by anyone.\n\nIf anyone else would like to show some too then please bring them along. It’s the part of the evening that most people seem to enjoy and I’d certainly like to see more work from both models and photographers. \nI may also have a special guest model with me on Monday depending on what time her bus leaves Dublin 😀 \nAOB \n
URL:http://artnudeireland.ie/event/march-meeting/
LOCATION:165 Capel Street\, Dublin\, Ireland
END:VEVENT
END:VCALENDAR